BEGIN:VCALENDAR
VERSION:2.0
PRODID:-//wp-events-plugin.com//6.4.7.1//EN
TZID:Europe/Berlin
X-WR-TIMEZONE:Europe/Berlin
BEGIN:VEVENT
UID:31@marienfliess.de
DTSTART;TZID=Europe/Berlin:20240718T000000
DTEND;TZID=Europe/Berlin:20240718T000000
DTSTAMP:20240308T092620Z
URL:https://marienfliess.de/events/schlafkonzert-mit-julia-buch/
SUMMARY:Schlafkonzert mit Julia Buch auf das nächste Jahr verschoben!
DESCRIPTION:Das Konzert muss leider asu persönlichen Gründen auf das näc
 hste Jahr verschoben werden!
END:VEVENT
BEGIN:VTIMEZONE
TZID:Europe/Berlin
X-LIC-LOCATION:Europe/Berlin
BEGIN:DAYLIGHT
DTSTART:20240331T030000
TZOFFSETFROM:+0100
TZOFFSETTO:+0200
TZNAME:CEST
END:DAYLIGHT
END:VTIMEZONE
END:VCALENDAR